BEGIN:VCALENDAR
VERSION:2.0
PRODID:-//Tukios.com/
BEGIN:VEVENT
UID:e19f3f58-3a66-4419-aa54-0643f4e956d6@www.reafuneralservice.com
DTSTAMP:20260423T214824Z
DTSTART:20260506T160000Z
DTEND:20260506T170000Z
SUMMARY:Celebration Of Life for Curtis Dale Miller
DESCRIPTION:
URL:https://www.reafuneralservice.com/obituaries/curtis-miller
LOCATION:Rea Funeral Chapel 3510 West 16th Street  Sedalia MO 65301
GEO:38.699839;-93.271041
END:VEVENT
END:VCALENDAR