BEGIN:VCALENDAR
VERSION:2.0
PRODID:-//Tukios.com/
BEGIN:VEVENT
UID:2b09a5a6-10e3-440f-ac83-069507afa49f@www.reafuneralservice.com
DTSTAMP:20260423T214241Z
DTSTART:20260506T150000Z
DTEND:20260506T160000Z
SUMMARY:Visitation for Curtis Dale Miller
DESCRIPTION:
URL:https://www.reafuneralservice.com/obituaries/curtis-miller
LOCATION:Rea Funeral Chapel 3510 West 16th Street  Sedalia MO 65301
GEO:38.699839;-93.271041
END:VEVENT
END:VCALENDAR