BEGIN:VCALENDAR
VERSION:2.0
PRODID:-//Tukios.com/
BEGIN:VEVENT
UID:4542b5c6-a595-49a4-a371-37cf2172eee1@www.reafuneralservice.com
DTSTAMP:20260423T214937Z
DTSTART:20260506T180000Z
DTEND:20260506T181500Z
SUMMARY:Inurnment for Curtis Dale Miller
DESCRIPTION:
URL:https://www.reafuneralservice.com/obituaries/curtis-miller
LOCATION:Missouri Veterans Cemetery at Higginsville  Missouri 13  
	Higginsville MO 
GEO:39.0375762;-93.733864
END:VEVENT
END:VCALENDAR