BEGIN:VCALENDAR
VERSION:2.0
PRODID:-//Tukios.com/
BEGIN:VEVENT
UID:9345cc1e-1ab7-4423-8453-4e34dbb2a9dc@www.reafuneralservice.com
DTSTAMP:20260421T091455Z
DTSTART:20260501T160000Z
DTEND:20260501T170000Z
SUMMARY:Celebration Of Life for Rochelle Lynn Simmons
DESCRIPTION:
URL:https://www.reafuneralservice.com/obituaries/rochelle-simmons
LOCATION:LifePointe Church 2921 West Broadway Boulevard  Sedalia MO 65301
GEO:38.7068327;-93.2638108
END:VEVENT
END:VCALENDAR